BEGIN:VCALENDAR
VERSION:2.0
CALSCALE:GREGORIAN
PRODID:adamgibbons/ics
METHOD:PUBLISH
X-PUBLISHED-TTL:PT1H
BEGIN:VEVENT
UID:12@events.accum.se
SUMMARY:Star Wars quiz
DTSTAMP:20260421T102354Z
DTSTART:20260505T160000Z
DESCRIPTION:Star-wars quiz på Origos epp
URL:https://events.accum.se/event/star-wars-quiz
LOCATION:Kårhuset Origo - Gösta Skoglunds väg 25\, SE-907 36 Umeå\, Sverige
STATUS:CONFIRMED
CATEGORIES:
X-ALT-DESC;FMTTYPE=text/html:<p>Star-wars quiz på Origos epp</p>
BEGIN:VALARM
ACTION:DISPLAY
DESCRIPTION:Star Wars quiz
TRIGGER:-PT1H
END:VALARM
END:VEVENT
END:VCALENDAR
